BEGIN:VCALENDAR
VERSION:2.0
PRODID:-//Tukios.com/
BEGIN:VEVENT
UID:f9701bf1-5f0d-444c-b5c6-6d4e7037e2c8@www.baue.com
DTSTAMP:20260422T212656Z
DTSTART:20260427T163000Z
DTEND:20260427T173000Z
SUMMARY:Funeral Service
DESCRIPTION:
URL:https://www.baue.com/obituaries/paul-bertram
LOCATION: 8945 Veterans Memorial Pkwy  O'Fallon MO 63366
GEO:38.8009367;-90.7101923
END:VEVENT
END:VCALENDAR