BEGIN:VCALENDAR
VERSION:2.0
PRODID:-//Tukios.com/
BEGIN:VEVENT
UID:75cb3c9a-47aa-465b-8f53-a2a348e75d13@www.baue.com
DTSTAMP:20260422T212641Z
DTSTART:20260427T143000Z
DTEND:20260427T163000Z
SUMMARY:Visitation
DESCRIPTION:
URL:https://www.baue.com/obituaries/paul-bertram
LOCATION: 8945 Veterans Memorial Pkwy  O'Fallon MO 63366
GEO:38.8009367;-90.7101923
END:VEVENT
END:VCALENDAR