BEGIN:VCALENDAR
VERSION:2.0
PRODID:-//Tukios.com/
BEGIN:VEVENT
UID:6891ac41-f6fe-4f63-9ed5-65977158d052@www.baue.com
DTSTAMP:20260421T233325Z
DTSTART:20260428T143000Z
DTEND:20260428T163000Z
SUMMARY:Visitation
DESCRIPTION:
URL:https://www.baue.com/obituaries/mary-kaletta
LOCATION: 3950 W Clay  St Charles MO 63301
GEO:38.7954068;-90.5669801
END:VEVENT
END:VCALENDAR