BEGIN:VCALENDAR
VERSION:2.0
PRODID:-//Tukios.com/
BEGIN:VEVENT
UID:b81b1d3b-6521-45df-beb4-c018034b346d@www.baue.com
DTSTAMP:20260425T021214Z
DTSTART:20260502
SUMMARY:Graveside Service
DESCRIPTION:
URL:https://www.baue.com/obituaries/mary-alice-griffith
LOCATION: 980 Graham Rd  Florissant MO 63031
GEO:38.781246;-90.333697
END:VEVENT
END:VCALENDAR