BEGIN:VCALENDAR
VERSION:2.0
PRODID:-//Tukios.com/
BEGIN:VEVENT
UID:26c56080-d729-4428-9243-a8fe536e1811@www.baue.com
DTSTAMP:20260425T021423Z
DTSTART:20260502T150000Z
DTEND:20260502T160000Z
SUMMARY:Mass
DESCRIPTION:
URL:https://www.baue.com/obituaries/mary-alice-griffith
LOCATION: 403 N Main St  O'Fallon MO 63366
GEO:38.813517;-90.7007658
END:VEVENT
END:VCALENDAR