BEGIN:VCALENDAR
VERSION:2.0
PRODID:-//Tukios.com/
BEGIN:VEVENT
UID:0c9c651c-f993-4e34-929e-74ac65aa5c65@www.baue.com
DTSTAMP:20260425T021704Z
DTSTART:20260501T210000Z
DTEND:20260502T010000Z
SUMMARY:Visitation
DESCRIPTION:
URL:https://www.baue.com/obituaries/mary-alice-griffith
LOCATION: 311 Wood St  O'Fallon MO 63366
GEO:38.807919;-90.7019349
END:VEVENT
END:VCALENDAR