BEGIN:VCALENDAR
VERSION:2.0
PRODID:-//Tukios.com/
BEGIN:VEVENT
UID:72224135-4ced-4fe8-b914-f895536bfa23@www.baue.com
DTSTAMP:20260425T021143Z
DTSTART:20260502T190000Z
DTEND:20260502T200000Z
SUMMARY:Memorial Service
DESCRIPTION:
URL:https://www.baue.com/obituaries/karen-johnson
LOCATION: 620 Jefferson St  St Charles MO 63301
GEO:38.7841379;-90.4890858
END:VEVENT
END:VCALENDAR