BEGIN:VCALENDAR
VERSION:2.0
PRODID:-//Tukios.com/
BEGIN:VEVENT
UID:320a35fd-ec4e-4feb-af8a-2b6e2fa037fd@www.baue.com
DTSTAMP:20260425T021541Z
DTSTART:20260502T180000Z
DTEND:20260502T190000Z
SUMMARY:Gathering
DESCRIPTION:
URL:https://www.baue.com/obituaries/karen-johnson
LOCATION: 620 Jefferson St  St Charles MO 63301
GEO:38.7841379;-90.4890858
END:VEVENT
END:VCALENDAR