BEGIN:VCALENDAR
VERSION:2.0
PRODID:-//Tukios.com/
BEGIN:VEVENT
UID:29d0cbdc-cf6f-45c8-bc29-3c9c97a5d74e@www.baue.com
DTSTAMP:20260422T194201Z
DTSTART:20260504T173000Z
DTEND:20260504T183000Z
SUMMARY:Graveside Service
DESCRIPTION:
URL:https://www.baue.com/obituaries/judith-donaghue
LOCATION: 3950 W Clay St  St Charles MO 63301
GEO:38.7953945;-90.5671367
END:VEVENT
END:VCALENDAR