BEGIN:VCALENDAR
VERSION:2.0
PRODID:-//Tukios.com/
BEGIN:VEVENT
UID:02749814-6263-4e7f-a91e-53339f3d4d69@www.baue.com
DTSTAMP:20260422T194456Z
DTSTART:20260504T163000Z
DTEND:20260504T173000Z
SUMMARY:Funeral Service
DESCRIPTION:
URL:https://www.baue.com/obituaries/judith-donaghue
LOCATION: 3950 W Clay  St Charles MO 63301
GEO:38.7954068;-90.5669801
END:VEVENT
END:VCALENDAR