BEGIN:VCALENDAR
VERSION:2.0
PRODID:-//Tukios.com/
BEGIN:VEVENT
UID:8575e70e-d85c-4aa0-87f3-84a932072fea@www.baue.com
DTSTAMP:20260421T223503Z
DTSTART:20260424
SUMMARY:Celebration of Life
DESCRIPTION:
URL:https://www.baue.com/obituaries/john-koob
LOCATION:VFW Post 2866 66 V F W Ln  St Charles MO 63303
GEO:38.7638234;-90.5376207
END:VEVENT
END:VCALENDAR