BEGIN:VCALENDAR
VERSION:2.0
PRODID:-//Tukios.com/
BEGIN:VEVENT
UID:0964d70d-4868-4596-b74c-30d3fec89b84@www.baue.com
DTSTAMP:20260421T223650Z
DTSTART:20260424
SUMMARY:Interment
DESCRIPTION:
URL:https://www.baue.com/obituaries/john-koob
LOCATION: 3950 W Clay St  Saint Charles MO 63301
GEO:38.7954068;-90.5669801
END:VEVENT
END:VCALENDAR