BEGIN:VCALENDAR
VERSION:2.0
PRODID:-//Tukios.com/
BEGIN:VEVENT
UID:df201219-29d5-4a3f-8f07-3a4656362353@www.baue.com
DTSTAMP:20260421T223158Z
DTSTART:20260424T183000Z
DTEND:20260424T193000Z
SUMMARY:Funeral Service
DESCRIPTION:
URL:https://www.baue.com/obituaries/john-koob
LOCATION: 3950 W Clay  St Charles MO 63301
GEO:38.7954068;-90.5669801
END:VEVENT
END:VCALENDAR