BEGIN:VCALENDAR
VERSION:2.0
PRODID:-//Tukios.com/
BEGIN:VEVENT
UID:90544c99-afde-4299-be82-f24482e66861@www.baue.com
DTSTAMP:20260421T223528Z
DTSTART:20260424T163000Z
DTEND:20260424T183000Z
SUMMARY:Visitation
DESCRIPTION:
URL:https://www.baue.com/obituaries/john-koob
LOCATION: 3950 W Clay  St Charles MO 63301
GEO:38.7954068;-90.5669801
END:VEVENT
END:VCALENDAR