BEGIN:VCALENDAR
VERSION:2.0
PRODID:-//Tukios.com/
BEGIN:VEVENT
UID:766e291d-b2b2-4391-9a20-d5c376bf9b0e@www.baue.com
DTSTAMP:20260421T001821Z
DTSTART:20260425
SUMMARY:Interment
DESCRIPTION:
URL:https://www.baue.com/obituaries/henry-brinkmann
LOCATION: 1703 S Old Hwy 94  St Charles MO 63303
GEO:38.768975;-90.5249402
END:VEVENT
END:VCALENDAR