BEGIN:VCALENDAR
VERSION:2.0
PRODID:-//Tukios.com/
BEGIN:VEVENT
UID:4eabcc86-da61-4517-8132-9a5438a3cf55@www.baue.com
DTSTAMP:20260421T002017Z
DTSTART:20260425T150000Z
DTEND:20260425T160000Z
SUMMARY:Visitation
DESCRIPTION:
URL:https://www.baue.com/obituaries/henry-brinkmann
LOCATION: 1703 S Old Hwy 94  St Charles MO 63303
GEO:38.7689853;-90.5248988
END:VEVENT
END:VCALENDAR