BEGIN:VCALENDAR
VERSION:2.0
PRODID:-//Tukios.com/
BEGIN:VEVENT
UID:cce9e728-1e63-46cf-bc43-fabbed932187@www.baue.com
DTSTAMP:20260421T002006Z
DTSTART:20260424T210000Z
DTEND:20260425T010000Z
SUMMARY:Visitation
DESCRIPTION:
URL:https://www.baue.com/obituaries/henry-brinkmann
LOCATION: 620 Jefferson St  St Charles MO 63301
GEO:38.7841379;-90.4890858
END:VEVENT
END:VCALENDAR