BEGIN:VCALENDAR
VERSION:2.0
PRODID:-//Tukios.com/
BEGIN:VEVENT
UID:22fc792c-5c66-48cc-bec3-6cdbb613a40a@www.baue.com
DTSTAMP:20260423T012455Z
DTSTART:20260428T194500Z
DTEND:20260428T204500Z
SUMMARY:Graveside Service
DESCRIPTION:
URL:https://www.baue.com/obituaries/gregory-hartmann
LOCATION: 3950 W Clay St  St Charles MO 63301
GEO:38.7953945;-90.5671367
END:VEVENT
END:VCALENDAR