BEGIN:VCALENDAR
VERSION:2.0
PRODID:-//Tukios.com/
BEGIN:VEVENT
UID:1ea4175d-d213-4331-8dc7-d95fbee91708@www.baue.com
DTSTAMP:20260423T012304Z
DTSTART:20260428T183000Z
DTEND:20260428T193000Z
SUMMARY:Funeral Service
DESCRIPTION:
URL:https://www.baue.com/obituaries/gregory-hartmann
LOCATION: 3950 W Clay  St Charles MO 63301
GEO:38.7954068;-90.5669801
END:VEVENT
END:VCALENDAR