BEGIN:VCALENDAR
VERSION:2.0
PRODID:-//Tukios.com/
BEGIN:VEVENT
UID:c319160d-890f-4627-b050-57cc44108f45@www.baue.com
DTSTAMP:20260423T012549Z
DTSTART:20260427T210000Z
DTEND:20260428T010000Z
SUMMARY:Visitation
DESCRIPTION:
URL:https://www.baue.com/obituaries/gregory-hartmann
LOCATION: 3950 W Clay  St Charles MO 63301
GEO:38.7954068;-90.5669801
END:VEVENT
END:VCALENDAR