BEGIN:VCALENDAR
VERSION:2.0
PRODID:-//Tukios.com/
BEGIN:VEVENT
UID:fd596484-bb67-4632-a6d0-a9732c02029f@www.baue.com
DTSTAMP:20260422T014133Z
DTSTART:20260425T164500Z
DTEND:20260425T170000Z
SUMMARY:Graveside Service
DESCRIPTION:
URL:https://www.baue.com/obituaries/donald-gilbert-adams
LOCATION: 3950 W Clay St  Saint Charles MO 63301
GEO:38.7954068;-90.5669801
END:VEVENT
END:VCALENDAR