BEGIN:VCALENDAR
VERSION:2.0
PRODID:-//Tukios.com/
BEGIN:VEVENT
UID:fd9a03fe-b771-4751-b6f9-7af1c4a45e90@www.baue.com
DTSTAMP:20260422T014305Z
DTSTART:20260425T160000Z
DTEND:20260425T170000Z
SUMMARY:Funeral Service
DESCRIPTION:
URL:https://www.baue.com/obituaries/donald-gilbert-adams
LOCATION: 3950 W Clay  St Charles MO 63301
GEO:38.7954068;-90.5669801
END:VEVENT
END:VCALENDAR