BEGIN:VCALENDAR
VERSION:2.0
PRODID:-//Tukios.com/
BEGIN:VEVENT
UID:5d56f12c-2426-4244-a01a-fd6d375562bf@www.baue.com
DTSTAMP:20260424T020400Z
DTSTART:20260430
SUMMARY:Interment
DESCRIPTION:
URL:https://www.baue.com/obituaries/dallas-nichols
LOCATION: 3950 W Clay St  Saint Charles MO 63301
GEO:38.7954068;-90.5669801
END:VEVENT
END:VCALENDAR