BEGIN:VCALENDAR
VERSION:2.0
PRODID:-//Tukios.com/
BEGIN:VEVENT
UID:9eb45f62-fc77-47d6-8905-e1bb33504d2b@www.baue.com
DTSTAMP:20260424T020238Z
DTSTART:20260429T210000Z
DTEND:20260430T010000Z
SUMMARY:Second Visitation
DESCRIPTION:The Rose Croix Ceremony will begin at 7:00pm, immediately 
	followed by The Masonic Blue Lodge Service.
URL:https://www.baue.com/obituaries/dallas-nichols
LOCATION: 3950 W Clay  St Charles MO 63301
GEO:38.7954068;-90.5669801
END:VEVENT
END:VCALENDAR