BEGIN:VCALENDAR
VERSION:2.0
PRODID:-//Tukios.com/
BEGIN:VEVENT
UID:b1c38f6d-e099-4cb5-a1c2-1712c7e8d729@www.baue.com
DTSTAMP:20260424T020239Z
DTSTART:20260428T210000Z
DTEND:20260429T010000Z
SUMMARY:Visitation
DESCRIPTION:
URL:https://www.baue.com/obituaries/dallas-nichols
LOCATION: 3950 W Clay  St Charles MO 63301
GEO:38.7954068;-90.5669801
END:VEVENT
END:VCALENDAR