BEGIN:VCALENDAR
VERSION:2.0
PRODID:-//Tukios.com/
BEGIN:VEVENT
UID:08c7ae5a-39e1-427e-8fa3-41403fbeb61c@www.baue.com
DTSTAMP:20260423T194907Z
DTSTART:20260519T143000Z
DTEND:20260519T160000Z
SUMMARY:Visitation
DESCRIPTION:
URL:https://www.baue.com/obituaries/carol-bell-clark
LOCATION: 7400 S Outer Rd 364  Dardenne Prairie MO 63368
GEO:38.7649531;-90.7424697
END:VEVENT
END:VCALENDAR