BEGIN:VCALENDAR
VERSION:2.0
PRODID:-//Tukios.com/
BEGIN:VEVENT
UID:8b2e497f-146a-44a1-a9e6-7808ccd177bd@www.baue.com
DTSTAMP:20260420T235706Z
DTSTART:20260427T153000Z
DTEND:20260427T163000Z
SUMMARY:Visitation
DESCRIPTION:
URL:https://www.baue.com/obituaries/betty-dickerson
LOCATION: 3950 W Clay  St Charles MO 63301
GEO:38.7954068;-90.5669801
END:VEVENT
END:VCALENDAR